BEGIN:VCALENDAR
VERSION:2.0
PRODID:-//THEATER van de ZIEL - ECPv6.15.20//NONSGML v1.0//EN
CALSCALE:GREGORIAN
METHOD:PUBLISH
X-WR-CALNAME:THEATER van de ZIEL
X-ORIGINAL-URL:https://theatervandeziel.com
X-WR-CALDESC:Evenementen voor THEATER van de ZIEL
REFRESH-INTERVAL;VALUE=DURATION:PT1H
X-Robots-Tag:noindex
X-PUBLISHED-TTL:PT1H
BEGIN:VTIMEZONE
TZID:Europe/Amsterdam
BEGIN:DAYLIGHT
TZOFFSETFROM:+0100
TZOFFSETTO:+0200
TZNAME:CEST
DTSTART:20180325T010000
END:DAYLIGHT
BEGIN:STANDARD
TZOFFSETFROM:+0200
TZOFFSETTO:+0100
TZNAME:CET
DTSTART:20181028T010000
END:STANDARD
BEGIN:DAYLIGHT
TZOFFSETFROM:+0100
TZOFFSETTO:+0200
TZNAME:CEST
DTSTART:20190331T010000
END:DAYLIGHT
BEGIN:STANDARD
TZOFFSETFROM:+0200
TZOFFSETTO:+0100
TZNAME:CET
DTSTART:20191027T010000
END:STANDARD
BEGIN:DAYLIGHT
TZOFFSETFROM:+0100
TZOFFSETTO:+0200
TZNAME:CEST
DTSTART:20200329T010000
END:DAYLIGHT
BEGIN:STANDARD
TZOFFSETFROM:+0200
TZOFFSETTO:+0100
TZNAME:CET
DTSTART:20201025T010000
END:STANDARD
END:VTIMEZONE
BEGIN:VEVENT
DTSTART;TZID=Europe/Amsterdam:20190926T133000
DTEND;TZID=Europe/Amsterdam:20190926T180000
DTSTAMP:20260420T031328
CREATED:20230914T142100Z
LAST-MODIFIED:20230914T144720Z
UID:6593-1569504600-1569520800@theatervandeziel.com
SUMMARY:Ontwikkelgroep
DESCRIPTION:Ontwikkelgroep
URL:https://theatervandeziel.com/evenement/ontwikkelgroep/
CATEGORIES:ontwikkelgroep
END:VEVENT
END:VCALENDAR