BEGIN:VCALENDAR
VERSION:2.0
PRODID:-//THEATER van de ZIEL - ECPv6.15.20//NONSGML v1.0//EN
CALSCALE:GREGORIAN
METHOD:PUBLISH
X-ORIGINAL-URL:https://theatervandeziel.com
X-WR-CALDESC:Evenementen voor THEATER van de ZIEL
REFRESH-INTERVAL;VALUE=DURATION:PT1H
X-Robots-Tag:noindex
X-PUBLISHED-TTL:PT1H
BEGIN:VTIMEZONE
TZID:Europe/Amsterdam
BEGIN:DAYLIGHT
TZOFFSETFROM:+0100
TZOFFSETTO:+0200
TZNAME:CEST
DTSTART:20240331T010000
END:DAYLIGHT
BEGIN:STANDARD
TZOFFSETFROM:+0200
TZOFFSETTO:+0100
TZNAME:CET
DTSTART:20241027T010000
END:STANDARD
BEGIN:DAYLIGHT
TZOFFSETFROM:+0100
TZOFFSETTO:+0200
TZNAME:CEST
DTSTART:20250330T010000
END:DAYLIGHT
BEGIN:STANDARD
TZOFFSETFROM:+0200
TZOFFSETTO:+0100
TZNAME:CET
DTSTART:20251026T010000
END:STANDARD
BEGIN:DAYLIGHT
TZOFFSETFROM:+0100
TZOFFSETTO:+0200
TZNAME:CEST
DTSTART:20260329T010000
END:DAYLIGHT
BEGIN:STANDARD
TZOFFSETFROM:+0200
TZOFFSETTO:+0100
TZNAME:CET
DTSTART:20261025T010000
END:STANDARD
END:VTIMEZONE
BEGIN:VEVENT
DTSTART;TZID=Europe/Amsterdam:20250417T140000
DTEND;TZID=Europe/Amsterdam:20250417T171500
DTSTAMP:20260420T043654
CREATED:20230914T142122Z
LAST-MODIFIED:20250318T124511Z
UID:6597-1744898400-1744910100@theatervandeziel.com
SUMMARY:Opstellingen - podium in Groningen
DESCRIPTION:Podium voor familieopstellingen in Groningen: professioneel én creatief systeemwerk waarin alle mogelijke vraagstukken op het podium kunnen komen die het licht van de ziel vragen. Familieopstellingen\, organisatieopstellingen\, maatschappelijke opstellingen\, numerologische en astrologische opstellingen\, terugspeeltheater\, theateropstellingen en voice dialogue en alle mogelijke (tussen)vormen. \nWil je meedoen? Geef bij opgave per mail theatervandeziel@gmail.com aan of je als representant wil komen (€25) en/of een vraagstuk wil inbrengen. Voor een persoonlijke opstelling betaal je 95 euro. \nTheater van de Ziel levert erkende psychotherapie en is aangesloten bij het CAT-Collectief  \n \n 
URL:https://theatervandeziel.com/evenement/familieopstellingen-groningen-2/
LOCATION:Theater van de Ziel\, Groningen\, Van Goghstraat\, Groningen\, NL\, 9718 MN\, Nederland
CATEGORIES:Numerologie,podium voor opstellingen
ORGANIZER;CN="Stijn":MAILTO:theatervandeziel@gmail.com
END:VEVENT
END:VCALENDAR